BEGIN:VCALENDAR
VERSION:2.0
PRODID:-//Wiley Planetarium - ECPv5.16.4//NONSGML v1.0//EN
CALSCALE:GREGORIAN
METHOD:PUBLISH
X-WR-CALNAME:Wiley Planetarium
X-ORIGINAL-URL:https://www.deltastate.edu/planetarium
X-WR-CALDESC:Events for Wiley Planetarium
BEGIN:VTIMEZONE
TZID:America/Chicago
BEGIN:DAYLIGHT
TZOFFSETFROM:-0600
TZOFFSETTO:-0500
TZNAME:CDT
DTSTART:20180311T080000
END:DAYLIGHT
BEGIN:STANDARD
TZOFFSETFROM:-0500
TZOFFSETTO:-0600
TZNAME:CST
DTSTART:20181104T070000
END:STANDARD
END:VTIMEZONE
BEGIN:VEVENT
DTSTART;TZID=America/Chicago:20181012T180000
DTEND;TZID=America/Chicago:20181012T190000
DTSTAMP:20260423T163506
CREATED:20180829T132722Z
LAST-MODIFIED:20180829T132722Z
UID:3161-1539367200-1539370800@www.deltastate.edu
SUMMARY:Cosmic Safari
DESCRIPTION:Cosmic Safari\nThe search for life in the universe begins as we travel to yet undiscovered planets in the far reaches of space. In differing environmental conditions\, you’ll discover what living creatures might look like on worlds very different from our own. Cosmic Safari transforms scientific theory into exotic worlds filled with fantastic creatures never before imagined. Narrated by John de Lancie of TV’s Star Trek: The Next Generation. \nTicket Pricing\nAdults: $5.00\nChildren: $3.00 (under the age of 12 who require a seat)\nSeniors: $3.00 (65 years or older)\nOkra Card: $3.00 (Students\, faculty and staff with valid DSU ID)\nTickets sold at the door. Cash or check only. Make check payable to Delta State University.
URL:https://www.deltastate.edu/planetarium/event/cosmic-safari-7/
LOCATION:Wiley Planetarium\, Delta State University\, Cleveland\, MS\, 38733\, United States
GEO:31.610583;-89.2084124
X-APPLE-STRUCTURED-LOCATION;VALUE=URI;X-ADDRESS=Wiley Planetarium Delta State University Cleveland MS 38733 United States;X-APPLE-RADIUS=500;X-TITLE=Delta State University:geo:-89.2084124,31.610583
END:VEVENT
END:VCALENDAR