BEGIN:VCALENDAR
VERSION:2.0
PRODID:-//Wiley Planetarium - ECPv5.16.4//NONSGML v1.0//EN
CALSCALE:GREGORIAN
METHOD:PUBLISH
X-WR-CALNAME:Wiley Planetarium
X-ORIGINAL-URL:https://www.deltastate.edu/planetarium
X-WR-CALDESC:Events for Wiley Planetarium
BEGIN:VTIMEZONE
TZID:America/Chicago
BEGIN:DAYLIGHT
TZOFFSETFROM:-0600
TZOFFSETTO:-0500
TZNAME:CDT
DTSTART:20250309T080000
END:DAYLIGHT
BEGIN:STANDARD
TZOFFSETFROM:-0500
TZOFFSETTO:-0600
TZNAME:CST
DTSTART:20251102T070000
END:STANDARD
END:VTIMEZONE
BEGIN:VEVENT
DTSTART;TZID=America/Chicago:20250424T183000
DTEND;TZID=America/Chicago:20250424T193000
DTSTAMP:20260422T022925
CREATED:20250415T182113Z
LAST-MODIFIED:20250416T195442Z
UID:3836-1745519400-1745523000@www.deltastate.edu
SUMMARY:Birth of Planet Earth
DESCRIPTION:Join us at the Wiley Planetarium to celebrate Earth Day! We’ll begin the evening with a live tour of our mid-spring sky\, take a look at real-time data of our Earth’s weather and geological activity\, and end the evening with the stunning planetarium film Birth of Planet Earth. \nBirth of Planet Earth tells the tale of our planet’s origins. Scientists now believe that our galaxy is filled with solar systems\, including up to a billion planets roughly the size of our own. The film employs advanced\, data-driven\, cinematic-quality visualizations to explore some of the greatest questions in science today: How did Earth become a living planet in the wake of our solar system’s violent birth? What does its history tell us about our chances of finding other worlds that are truly Earth-like? \nTicket Pricing\nAdults: $5.00\nChildren (under age of 12): $3.00\nDSU students/faculty/staff: FREE (present valid DSU ID/OKRA KARD)\nTickets sold at the door. Cash or check only. Make check payable to Delta State University.\nNo admittance will be available after the show’s scheduled start time.
URL:https://www.deltastate.edu/planetarium/event/birth-of-planet-earth-2025-04-24/
LOCATION:Wiley Planetarium\, Delta State University\, Cleveland\, MS\, 38733\, United States
GEO:31.610583;-89.2084124
X-APPLE-STRUCTURED-LOCATION;VALUE=URI;X-ADDRESS=Wiley Planetarium Delta State University Cleveland MS 38733 United States;X-APPLE-RADIUS=500;X-TITLE=Delta State University:geo:-89.2084124,31.610583
END:VEVENT
END:VCALENDAR