BEGIN:VCALENDAR
VERSION:2.0
PRODID:-//News and Events - ECPv5.16.4//NONSGML v1.0//EN
CALSCALE:GREGORIAN
METHOD:PUBLISH
X-ORIGINAL-URL:https://www.deltastate.edu/news-and-events
X-WR-CALDESC:Events for News and Events
REFRESH-INTERVAL;VALUE=DURATION:PT1H
X-Robots-Tag:noindex
X-PUBLISHED-TTL:PT1H
BEGIN:VTIMEZONE
TZID:America/Chicago
BEGIN:DAYLIGHT
TZOFFSETFROM:-0600
TZOFFSETTO:-0500
TZNAME:CDT
DTSTART:20230312T080000
END:DAYLIGHT
BEGIN:STANDARD
TZOFFSETFROM:-0500
TZOFFSETTO:-0600
TZNAME:CST
DTSTART:20231105T070000
END:STANDARD
END:VTIMEZONE
BEGIN:VEVENT
DTSTART;TZID=America/Chicago:20231111T100000
DTEND;TZID=America/Chicago:20231111T140000
DTSTAMP:20260422T185615
CREATED:20231026T220918Z
LAST-MODIFIED:20231026T220918Z
UID:94069-1699696800-1699711200@www.deltastate.edu
SUMMARY:Alumni Reunion - Classes of 1950-1969
DESCRIPTION:an opportunity for graduates of the classes of 1950-1969 to come back to campus and reconnect with friends. \n  \nJobe Hall- Kossman Suite
URL:https://www.deltastate.edu/news-and-events/event/alumni-reunion-classes-of-1950-1969/
LOCATION:Jobe Hall
ORGANIZER;CN="Alumni%20Association":MAILTO:alumni@deltastate.edu
END:VEVENT
END:VCALENDAR