BEGIN:VCALENDAR
VERSION:2.0
PRODID:-//News and Events - ECPv5.16.4//NONSGML v1.0//EN
CALSCALE:GREGORIAN
METHOD:PUBLISH
X-WR-CALNAME:News and Events
X-ORIGINAL-URL:https://www.deltastate.edu/news-and-events
X-WR-CALDESC:Events for News and Events
REFRESH-INTERVAL;VALUE=DURATION:PT1H
X-Robots-Tag:noindex
X-PUBLISHED-TTL:PT1H
BEGIN:VTIMEZONE
TZID:America/Chicago
BEGIN:DAYLIGHT
TZOFFSETFROM:-0600
TZOFFSETTO:-0500
TZNAME:CDT
DTSTART:20240310T080000
END:DAYLIGHT
BEGIN:STANDARD
TZOFFSETFROM:-0500
TZOFFSETTO:-0600
TZNAME:CST
DTSTART:20241103T070000
END:STANDARD
BEGIN:DAYLIGHT
TZOFFSETFROM:-0600
TZOFFSETTO:-0500
TZNAME:CDT
DTSTART:20250309T080000
END:DAYLIGHT
BEGIN:STANDARD
TZOFFSETFROM:-0500
TZOFFSETTO:-0600
TZNAME:CST
DTSTART:20251102T070000
END:STANDARD
END:VTIMEZONE
BEGIN:VEVENT
DTSTART;TZID=America/Chicago:20240212T110000
DTEND;TZID=America/Chicago:20240212T140000
DTSTAMP:20260425T102246
CREATED:20240206T153028Z
LAST-MODIFIED:20240206T153028Z
UID:94768-1707735600-1707746400@www.deltastate.edu
SUMMARY:Candy Grams
DESCRIPTION:This is a philanthropy event for Phi Mu. All of the proceeds go to LeBonheur Children’s Hospital in Memphis. We are selling candy grams for Valentines Day.
URL:https://www.deltastate.edu/news-and-events/event/candy-grams/
LOCATION:H.L. Nowell Student Union
END:VEVENT
BEGIN:VEVENT
DTSTART;TZID=America/Chicago:20240214T110000
DTEND;TZID=America/Chicago:20240214T140000
DTSTAMP:20260425T102246
CREATED:20240206T154148Z
LAST-MODIFIED:20240206T154148Z
UID:94775-1707908400-1707919200@www.deltastate.edu
SUMMARY:Candy Gram Pick-Up
DESCRIPTION:
URL:https://www.deltastate.edu/news-and-events/event/candy-gram-pick-up/
LOCATION:H.L. Nowell Student Union
END:VEVENT
BEGIN:VEVENT
DTSTART;TZID=America/Chicago:20240818T080000
DTEND;TZID=America/Chicago:20240818T200000
DTSTAMP:20260425T102246
CREATED:20240528T134059Z
LAST-MODIFIED:20240528T134059Z
UID:95401-1723968000-1724011200@www.deltastate.edu
SUMMARY:The Union Takeover
DESCRIPTION:
URL:https://www.deltastate.edu/news-and-events/event/the-union-takeover/
LOCATION:H.L. Nowell Student Union
END:VEVENT
BEGIN:VEVENT
DTSTART;TZID=America/Chicago:20240916T100000
DTEND;TZID=America/Chicago:20240916T210000
DTSTAMP:20260425T102246
CREATED:20240912T160531Z
LAST-MODIFIED:20240912T160531Z
UID:95802-1726480800-1726520400@www.deltastate.edu
SUMMARY:World Afro Day Celebration
DESCRIPTION:The World Afro Day Celebration is an event geared toward celebrating and educating on the beauty of natural hair. \n10 AM – 12:30 PM: Afromation Wall & Wall Street – Union First Floor Lobby \n1-2:30 PM: Crown Act Discussion – Stateroom \n3-5 PM: DIU Hair Care Workshop – Stateroom \n7-9 PM: Afro-centric Fashion Show – Stateroom \n \n 
URL:https://www.deltastate.edu/news-and-events/event/world-afro-day-celebration/
LOCATION:H.L. Nowell Student Union
END:VEVENT
BEGIN:VEVENT
DTSTART;TZID=America/Chicago:20251002T100000
DTEND;TZID=America/Chicago:20251002T140000
DTSTAMP:20260425T102246
CREATED:20250919T185815Z
LAST-MODIFIED:20250919T185815Z
UID:97084-1759399200-1759413600@www.deltastate.edu
SUMMARY:OKRA Entertainment Pop Up Tabling
DESCRIPTION:OKRA Entertainment will be highlighting Union and Campus Activities for October.
URL:https://www.deltastate.edu/news-and-events/event/okra-entertainment-pop-up-tabling/
LOCATION:H.L. Nowell Student Union
CATEGORIES:Student,Student Events
END:VEVENT
BEGIN:VEVENT
DTSTART;TZID=America/Chicago:20251003T100000
DTEND;TZID=America/Chicago:20251003T150000
DTSTAMP:20260425T102246
CREATED:20250926T155849Z
LAST-MODIFIED:20250926T155849Z
UID:97107-1759485600-1759503600@www.deltastate.edu
SUMMARY:NPHC Mental Health Session
DESCRIPTION:NPHC will be highlighting the importance of mental health and the importance of taking care of yourself.
URL:https://www.deltastate.edu/news-and-events/event/nphc-mental-health-session/
LOCATION:H.L. Nowell Student Union
CATEGORIES:Student,Student Events
END:VEVENT
END:VCALENDAR