BEGIN:VCALENDAR
VERSION:2.0
PRODID:-//News and Events - ECPv5.16.4//NONSGML v1.0//EN
CALSCALE:GREGORIAN
METHOD:PUBLISH
X-ORIGINAL-URL:https://www.deltastate.edu/news-and-events
X-WR-CALDESC:Events for News and Events
REFRESH-INTERVAL;VALUE=DURATION:PT1H
X-Robots-Tag:noindex
X-PUBLISHED-TTL:PT1H
BEGIN:VTIMEZONE
TZID:America/Chicago
BEGIN:DAYLIGHT
TZOFFSETFROM:-0600
TZOFFSETTO:-0500
TZNAME:CDT
DTSTART:20230312T080000
END:DAYLIGHT
BEGIN:STANDARD
TZOFFSETFROM:-0500
TZOFFSETTO:-0600
TZNAME:CST
DTSTART:20231105T070000
END:STANDARD
BEGIN:DAYLIGHT
TZOFFSETFROM:-0600
TZOFFSETTO:-0500
TZNAME:CDT
DTSTART:20240310T080000
END:DAYLIGHT
BEGIN:STANDARD
TZOFFSETFROM:-0500
TZOFFSETTO:-0600
TZNAME:CST
DTSTART:20241103T070000
END:STANDARD
BEGIN:DAYLIGHT
TZOFFSETFROM:-0600
TZOFFSETTO:-0500
TZNAME:CDT
DTSTART:20250309T080000
END:DAYLIGHT
BEGIN:STANDARD
TZOFFSETFROM:-0500
TZOFFSETTO:-0600
TZNAME:CST
DTSTART:20251102T070000
END:STANDARD
BEGIN:DAYLIGHT
TZOFFSETFROM:-0600
TZOFFSETTO:-0500
TZNAME:CDT
DTSTART:20260308T080000
END:DAYLIGHT
BEGIN:STANDARD
TZOFFSETFROM:-0500
TZOFFSETTO:-0600
TZNAME:CST
DTSTART:20261101T070000
END:STANDARD
END:VTIMEZONE
BEGIN:VEVENT
DTSTART;TZID=America/Chicago:20231201T191400
DTEND;TZID=America/Chicago:20231201T200000
DTSTAMP:20260419T132219
CREATED:20231130T165421Z
LAST-MODIFIED:20231130T165434Z
UID:94354-1701458040-1701460800@www.deltastate.edu
SUMMARY:Xi Beta chapter Phi Beta Sigma Fraternity new members presentation
DESCRIPTION:
URL:https://www.deltastate.edu/news-and-events/event/xi-beta-chapter-phi-beta-sigma-fraternity-new-members-presentation/
LOCATION:DSU Clock Tower
END:VEVENT
BEGIN:VEVENT
DTSTART;TZID=America/Chicago:20240425T140000
DTEND;TZID=America/Chicago:20240425T160000
DTSTAMP:20260419T132219
CREATED:20240416T140627Z
LAST-MODIFIED:20240416T140627Z
UID:95243-1714053600-1714060800@www.deltastate.edu
SUMMARY:Pie a Sigma
DESCRIPTION:
URL:https://www.deltastate.edu/news-and-events/event/pie-a-sigma-4/
LOCATION:DSU Clock Tower
END:VEVENT
BEGIN:VEVENT
DTSTART;TZID=America/Chicago:20260402T140000
DTEND;TZID=America/Chicago:20260402T160000
DTSTAMP:20260419T132219
CREATED:20260312T210414Z
LAST-MODIFIED:20260326T153827Z
UID:108111-1775138400-1775145600@www.deltastate.edu
SUMMARY:Neophyte Presentation
DESCRIPTION:Alpha Phi Alpha proudly presents a Neophyte Presentation\, unveiling the fraternity’s newest member to the campus community. This event not only serves as an introduction to the brotherhood’s latest addition but also delivers an unforgettable performance that showcases the energy\, unity\, and tradition of Alpha Phi Alpha. Come witness a moment of pride\, excitement\, and brotherhood as the newest member makes his debut in a way the campus won’t forget. \n  \nContingency Location Plan: H. L. Nowell Union – 2nd Floor East Lobby
URL:https://www.deltastate.edu/news-and-events/event/neophyte-presentation/
LOCATION:DSU Clock Tower
CATEGORIES:Student,Student Events
END:VEVENT
END:VCALENDAR