BEGIN:VCALENDAR
VERSION:2.0
PRODID:-//News and Events - ECPv5.16.4//NONSGML v1.0//EN
CALSCALE:GREGORIAN
METHOD:PUBLISH
X-ORIGINAL-URL:https://www.deltastate.edu/news-and-events
X-WR-CALDESC:Events for News and Events
REFRESH-INTERVAL;VALUE=DURATION:PT1H
X-Robots-Tag:noindex
X-PUBLISHED-TTL:PT1H
BEGIN:VTIMEZONE
TZID:America/Chicago
BEGIN:DAYLIGHT
TZOFFSETFROM:-0600
TZOFFSETTO:-0500
TZNAME:CDT
DTSTART:20230312T080000
END:DAYLIGHT
BEGIN:STANDARD
TZOFFSETFROM:-0500
TZOFFSETTO:-0600
TZNAME:CST
DTSTART:20231105T070000
END:STANDARD
END:VTIMEZONE
BEGIN:VEVENT
DTSTART;TZID=America/Chicago:20230815T170000
DTEND;TZID=America/Chicago:20230815T190000
DTSTAMP:20260423T063950
CREATED:20230814T200943Z
LAST-MODIFIED:20230814T200943Z
UID:93591-1692118800-1692126000@www.deltastate.edu
SUMMARY:Welcome back for students and instructor meeting
DESCRIPTION:
URL:https://www.deltastate.edu/news-and-events/event/welcome-back-for-students-and-instructor-meeting/
LOCATION:Delta State University Hangar- Airport
ORGANIZER;CN="Commercial%20Aviation":MAILTO:cavinfo@deltastate.edu
END:VEVENT
END:VCALENDAR