BEGIN:VCALENDAR
VERSION:2.0
PRODID:-//News and Events - ECPv5.16.4//NONSGML v1.0//EN
CALSCALE:GREGORIAN
METHOD:PUBLISH
X-WR-CALNAME:News and Events
X-ORIGINAL-URL:https://www.deltastate.edu/news-and-events
X-WR-CALDESC:Events for News and Events
REFRESH-INTERVAL;VALUE=DURATION:PT1H
X-Robots-Tag:noindex
X-PUBLISHED-TTL:PT1H
BEGIN:VTIMEZONE
TZID:America/Chicago
BEGIN:DAYLIGHT
TZOFFSETFROM:-0600
TZOFFSETTO:-0500
TZNAME:CDT
DTSTART:20240310T080000
END:DAYLIGHT
BEGIN:STANDARD
TZOFFSETFROM:-0500
TZOFFSETTO:-0600
TZNAME:CST
DTSTART:20241103T070000
END:STANDARD
END:VTIMEZONE
BEGIN:VEVENT
DTSTART;TZID=America/Chicago:20240907T080000
DTEND;TZID=America/Chicago:20240907T150000
DTSTAMP:20260423T232542
CREATED:20240809T141131Z
LAST-MODIFIED:20240809T141131Z
UID:95594-1725696000-1725721200@www.deltastate.edu
SUMMARY:Phi Mu Annual Bunko Tournament
DESCRIPTION:Phi Mu is hosting their annual Bunko tournament. All proceeds go to Children’s Miracle Network Hospitals.
URL:https://www.deltastate.edu/news-and-events/event/phi-mu-annual-bunko-tournament/
LOCATION:H.L. Nowell Union\, State Room
ORGANIZER;CN="Phi%20Mu%20Fraternity":MAILTO:lross@deltastate.edu
END:VEVENT
BEGIN:VEVENT
DTSTART;TZID=America/Chicago:20240323T080000
DTEND;TZID=America/Chicago:20240323T130000
DTSTAMP:20260423T232542
CREATED:20240221T205526Z
LAST-MODIFIED:20240221T205526Z
UID:94860-1711180800-1711198800@www.deltastate.edu
SUMMARY:Amanda Cossey Price 5K
DESCRIPTION:The purpose of this event is to honor a former Phi Mu who passed away. Half of the proceeds from this event will go to LeBonheur Children’s Hospital in Memphis and the other half go towards the Amanda Price Scholarship here at DSU.
URL:https://www.deltastate.edu/news-and-events/event/amanda-cossey-price-5k-3/
LOCATION:Front of the Student Union
ORGANIZER;CN="Phi%20Mu%20Fraternity":MAILTO:lross@deltastate.edu
END:VEVENT
END:VCALENDAR