BEGIN:VCALENDAR
VERSION:2.0
PRODID:-//News and Events - ECPv5.16.4//NONSGML v1.0//EN
CALSCALE:GREGORIAN
METHOD:PUBLISH
X-WR-CALNAME:News and Events
X-ORIGINAL-URL:https://www.deltastate.edu/news-and-events
X-WR-CALDESC:Events for News and Events
REFRESH-INTERVAL;VALUE=DURATION:PT1H
X-Robots-Tag:noindex
X-PUBLISHED-TTL:PT1H
BEGIN:VTIMEZONE
TZID:America/Chicago
BEGIN:DAYLIGHT
TZOFFSETFROM:-0600
TZOFFSETTO:-0500
TZNAME:CDT
DTSTART:20260308T080000
END:DAYLIGHT
BEGIN:STANDARD
TZOFFSETFROM:-0500
TZOFFSETTO:-0600
TZNAME:CST
DTSTART:20261101T070000
END:STANDARD
END:VTIMEZONE
BEGIN:VEVENT
DTSTART;VALUE=DATE:20260425
DTEND;VALUE=DATE:20260426
DTSTAMP:20260425T071934
CREATED:20260304T162403Z
LAST-MODIFIED:20260304T162403Z
UID:108040-1777075200-1777161599@www.deltastate.edu
SUMMARY:Lifeguard Certification Training
DESCRIPTION:🚩 Delta State University Aquatic Center \n📢 Become a Certified Lifeguard at Delta State University! \nGain lifesaving skills\, professional certification\, and hands-on training in a fast-paced\, supportive environment. Perfect for students and community members ready to lead\, protect\, and make a difference—sign up today and start saving lives. Space is limited. \nSponsor: College of Nursing\, Health\, & Sciences \nCourse Fee: $250 \nCourse Instructor: Mrs. Hannah Smith Bell \nCertification Organization: American Red Cross | 2-yr Certified \nFor Information: Dr. Davis > tdavis@deltastate.edu | 662.402.2050 \nTo sign up: https://docs.google.com/forms/d/1Lf5NNf15-6NE0VP9VcRR7SvgWg44mcYozLZD3QkGVOQ/viewform
URL:https://www.deltastate.edu/news-and-events/event/lifeguard-certification-training/
LOCATION:Delta State Aquatics Center
CATEGORIES:Athletic,Community,Faculty & Staff,Student
ATTACH;FMTTYPE=image/png:https://www.deltastate.edu/news-and-events/wp-content/uploads/sites/3/2026/03/Red-And-White-Modern-Lifeguard-Certification-Courses-Facebook-Ad.png
END:VEVENT
BEGIN:VEVENT
DTSTART;TZID=America/Chicago:20260425T070000
DTEND;TZID=America/Chicago:20260425T190000
DTSTAMP:20260425T071934
CREATED:20260219T171516Z
LAST-MODIFIED:20260219T171516Z
UID:108285-1777100400-1777143600@www.deltastate.edu
SUMMARY:American Red Cross Lifeguarding Certification/CPR&AED/Recert Workshop
DESCRIPTION:The College of Nursing\, Health\, and Sciences is hosting an American Red Cross Aquatic Lifeguard Training Recert /AED/CPR and Certification
URL:https://www.deltastate.edu/news-and-events/event/american-red-cross-lifeguarding-certification-cpraed-recert-workshop/2026-04-25/
LOCATION:Delta State Aquatics Center
CATEGORIES:Academics,Community,Faculty & Staff,Student,Student Events
END:VEVENT
BEGIN:VEVENT
DTSTART;TZID=America/Chicago:20260425T080000
DTEND;TZID=America/Chicago:20260425T120000
DTSTAMP:20260425T071934
CREATED:20260305T000245Z
LAST-MODIFIED:20260305T000330Z
UID:108060-1777104000-1777118400@www.deltastate.edu
SUMMARY:Amanda Cossey Price 5K
DESCRIPTION:This is Phi Mu annual 5K in honor of Amanda Cossey Price a DSU alumni. All proceeds go to Lebonuer Children’s Hospital and the Amanda Cossey Price Inspirational Scholarship Fund.
URL:https://www.deltastate.edu/news-and-events/event/amanda-cossey-price-5k/
LOCATION:H. L. Nowerll Union Sitting area outside
CATEGORIES:Community,Student,Student Events
ATTACH;FMTTYPE=image/png:https://www.deltastate.edu/news-and-events/wp-content/uploads/sites/3/2026/03/April-25th-2026.png
END:VEVENT
END:VCALENDAR